BEGIN:VCALENDAR
VERSION:2.0
PRODID:-//Senna Hills MUD - ECPv6.15.20//NONSGML v1.0//EN
CALSCALE:GREGORIAN
METHOD:PUBLISH
X-WR-CALNAME:Senna Hills MUD
X-ORIGINAL-URL:https://sennahillsmud.org
X-WR-CALDESC:Events for Senna Hills MUD
REFRESH-INTERVAL;VALUE=DURATION:PT1H
X-Robots-Tag:noindex
X-PUBLISHED-TTL:PT1H
BEGIN:VTIMEZONE
TZID:America/Chicago
BEGIN:DAYLIGHT
TZOFFSETFROM:-0600
TZOFFSETTO:-0500
TZNAME:CDT
DTSTART:20190310T080000
END:DAYLIGHT
BEGIN:STANDARD
TZOFFSETFROM:-0500
TZOFFSETTO:-0600
TZNAME:CST
DTSTART:20191103T070000
END:STANDARD
BEGIN:DAYLIGHT
TZOFFSETFROM:-0600
TZOFFSETTO:-0500
TZNAME:CDT
DTSTART:20200308T080000
END:DAYLIGHT
BEGIN:STANDARD
TZOFFSETFROM:-0500
TZOFFSETTO:-0600
TZNAME:CST
DTSTART:20201101T070000
END:STANDARD
BEGIN:DAYLIGHT
TZOFFSETFROM:-0600
TZOFFSETTO:-0500
TZNAME:CDT
DTSTART:20210314T080000
END:DAYLIGHT
BEGIN:STANDARD
TZOFFSETFROM:-0500
TZOFFSETTO:-0600
TZNAME:CST
DTSTART:20211107T070000
END:STANDARD
BEGIN:DAYLIGHT
TZOFFSETFROM:-0600
TZOFFSETTO:-0500
TZNAME:CDT
DTSTART:20220313T080000
END:DAYLIGHT
BEGIN:STANDARD
TZOFFSETFROM:-0500
TZOFFSETTO:-0600
TZNAME:CST
DTSTART:20221106T070000
END:STANDARD
END:VTIMEZONE
BEGIN:VEVENT
DTSTART;VALUE=DATE:20211011
DTEND;VALUE=DATE:20211012
DTSTAMP:20260424T092717
CREATED:20200901T162225Z
LAST-MODIFIED:20200901T162225Z
UID:1256-1633910400-1633996799@sennahillsmud.org
SUMMARY:Columbus Day
DESCRIPTION:
URL:https://sennahillsmud.org/event/columbus-day-2/
CATEGORIES:Federal Holidays
END:VEVENT
BEGIN:VEVENT
DTSTART;VALUE=DATE:20210906
DTEND;VALUE=DATE:20210907
DTSTAMP:20260424T092717
CREATED:20200901T162311Z
LAST-MODIFIED:20200901T162311Z
UID:1257-1630886400-1630972799@sennahillsmud.org
SUMMARY:Labor Day
DESCRIPTION:
URL:https://sennahillsmud.org/event/labor-day-2/
CATEGORIES:Federal Holidays
END:VEVENT
BEGIN:VEVENT
DTSTART;VALUE=DATE:20210704
DTEND;VALUE=DATE:20210705
DTSTAMP:20260424T092717
CREATED:20200901T161935Z
LAST-MODIFIED:20200901T161935Z
UID:1251-1625356800-1625443199@sennahillsmud.org
SUMMARY:Independence Day
DESCRIPTION:
URL:https://sennahillsmud.org/event/independence-day/
CATEGORIES:Federal Holidays
END:VEVENT
BEGIN:VEVENT
DTSTART;VALUE=DATE:20210531
DTEND;VALUE=DATE:20210601
DTSTAMP:20260424T092717
CREATED:20200901T161845Z
LAST-MODIFIED:20200901T161845Z
UID:1250-1622419200-1622505599@sennahillsmud.org
SUMMARY:Memorial Day
DESCRIPTION:
URL:https://sennahillsmud.org/event/memorial-day/
CATEGORIES:Federal Holidays
END:VEVENT
BEGIN:VEVENT
DTSTART;VALUE=DATE:20210215
DTEND;VALUE=DATE:20210216
DTSTAMP:20260424T092717
CREATED:20200901T161743Z
LAST-MODIFIED:20200901T161743Z
UID:1249-1613347200-1613433599@sennahillsmud.org
SUMMARY:Presidents' Day (Washington's Birthday)
DESCRIPTION:
URL:https://sennahillsmud.org/event/presidents-day-washingtons-birthday/
CATEGORIES:Federal Holidays
END:VEVENT
BEGIN:VEVENT
DTSTART;VALUE=DATE:20210118
DTEND;VALUE=DATE:20210119
DTSTAMP:20260424T092717
CREATED:20200901T161524Z
LAST-MODIFIED:20200901T161805Z
UID:1248-1610928000-1611014399@sennahillsmud.org
SUMMARY:Martin Luther King\, Jr. Day
DESCRIPTION:
URL:https://sennahillsmud.org/event/martin-luther-king-jr-day/
CATEGORIES:Federal Holidays
END:VEVENT
BEGIN:VEVENT
DTSTART;VALUE=DATE:20210101
DTEND;VALUE=DATE:20210102
DTSTAMP:20260424T092717
CREATED:20200901T161354Z
LAST-MODIFIED:20200901T161354Z
UID:1247-1609459200-1609545599@sennahillsmud.org
SUMMARY:New Year’s Day
DESCRIPTION:
URL:https://sennahillsmud.org/event/new-years-day/
CATEGORIES:Federal Holidays
END:VEVENT
BEGIN:VEVENT
DTSTART;VALUE=DATE:20201225
DTEND;VALUE=DATE:20201226
DTSTAMP:20260424T092717
CREATED:20200901T162416Z
LAST-MODIFIED:20200901T162416Z
UID:1260-1608854400-1608940799@sennahillsmud.org
SUMMARY:Christmas Day
DESCRIPTION:
URL:https://sennahillsmud.org/event/christmas-day/
CATEGORIES:Federal Holidays
END:VEVENT
BEGIN:VEVENT
DTSTART;VALUE=DATE:20201126
DTEND;VALUE=DATE:20201127
DTSTAMP:20260424T092717
CREATED:20200901T162334Z
LAST-MODIFIED:20200901T162334Z
UID:1258-1606348800-1606435199@sennahillsmud.org
SUMMARY:Thanksgiving Day
DESCRIPTION:
URL:https://sennahillsmud.org/event/thanksgiving-day/
CATEGORIES:Federal Holidays
END:VEVENT
BEGIN:VEVENT
DTSTART;VALUE=DATE:20201111
DTEND;VALUE=DATE:20201112
DTSTAMP:20260424T092717
CREATED:20200901T162107Z
LAST-MODIFIED:20200901T162107Z
UID:1254-1605052800-1605139199@sennahillsmud.org
SUMMARY:Veterans Day
DESCRIPTION:
URL:https://sennahillsmud.org/event/veterans-day/
CATEGORIES:Federal Holidays
END:VEVENT
BEGIN:VEVENT
DTSTART;VALUE=DATE:20201012
DTEND;VALUE=DATE:20201013
DTSTAMP:20260424T092717
CREATED:20200901T162033Z
LAST-MODIFIED:20200901T162159Z
UID:1253-1602460800-1602547199@sennahillsmud.org
SUMMARY:Columbus Day
DESCRIPTION:
URL:https://sennahillsmud.org/event/columbus-day/
CATEGORIES:Federal Holidays
END:VEVENT
BEGIN:VEVENT
DTSTART;VALUE=DATE:20200907
DTEND;VALUE=DATE:20200908
DTSTAMP:20260424T092717
CREATED:20200901T162005Z
LAST-MODIFIED:20200901T162251Z
UID:1252-1599436800-1599523199@sennahillsmud.org
SUMMARY:Labor Day
DESCRIPTION:
URL:https://sennahillsmud.org/event/labor-day/
CATEGORIES:Federal Holidays
END:VEVENT
END:VCALENDAR